BEGIN:VCALENDAR
VERSION:2.0
PRODID:-//eventon.com NONSGML v1.0//EN
BEGIN:VEVENT
UID:69eb7e95cca79
DTSTAMP:20260424T163045
DTSTART:20260327T123000Z
DTEND:20260327T133000Z
TZID:Europe/Amsterdam
LOCATION:Pastorie Sint Bartholomeuskerk Herenstraat 47
SUMMARY:Samen eten - Pastorie Sint Bartholomeus
DESCRIPTION: Vind je het ook zo gezellig om samen te lunchen? Dat vinden wij ook! Daarom ben je van harte uitgenodigd om naar het Samen eten te komen. Je neemt jouw eigen eten mee en voor koffie of thee wordt gezorgd. De lunch wordt gestart met een kort gebed. En tijdens het[..]\nhttps://parochiesintmaarten.nl/events/samen-eten-pastorie-sint-bartholomeus/
URL:https://parochiesintmaarten.nl/events/samen-eten-pastorie-sint-bartholomeus/
END:VEVENT
END:VCALENDAR