BEGIN:VCALENDAR
VERSION:2.0
PRODID:-//eventon.com NONSGML v1.0//EN
BEGIN:VEVENT
UID:69eb7d84eaf41
DTSTAMP:20260424T162612
DTSTART:20260307T123000Z
DTEND:20260307T150000Z
TZID:Europe/Amsterdam
LOCATION:H. Hart van Jezuskerk\,  Beeklaan 13 in de Zilk 
SUMMARY:Gaan in vertrouwen - Meditatieve vastenwandeling
DESCRIPTION: In samenwerking met de werkgroep Vastenaktie van onze buurparochie H. Willibrordus wordt er op zaterdag 7 maart een meditatieve vastenwandeling georganiseerd. De opbrengst van de wandeling komt ten goede aan Kameroen. We zullen gaan lopen in de Amsterdamse waterleidingduinen en zullen\,  met tussenstops\,  ongeveer anderhalf tot twee uur onderweg zijn.[..]\nhttps://parochiesintmaarten.nl/events/gaan-in-vertrouwen-meditatieve-vastenwandeling/
URL:https://parochiesintmaarten.nl/events/gaan-in-vertrouwen-meditatieve-vastenwandeling/
END:VEVENT
END:VCALENDAR