BEGIN:VCALENDAR
VERSION:2.0
PRODID:-//eventon.com NONSGML v1.0//EN
BEGIN:VEVENT
UID:69eb757c459c5
DTSTAMP:20260424T155156
DTSTART:20260322T103000Z
DTEND:20260322T225000Z
TZID:Europe/Amsterdam
LOCATION:Pastorie Sint Pancratius Sassenheim 
SUMMARY:Solidariteitslunch pastorie Sint Pancratiuskerk
DESCRIPTION: ‘Geven jullie hen maar te eten.’ Solidariteitslunch &#8211; Pancratius Ook dit jaar zetten we ons in voor de meest kwetsbare mensen. Mensen die onze steun en hulp enorm kunnen gebruiken. Op zondag 22 maart organiseert de parochiekern Pancratius een solidariteitslunch. U bent van harte welkom om 11.30 uur in de[..]\nhttps://parochiesintmaarten.nl/events/solidariteitslunch-pastorie-sint-pancratiuskerk/
URL:https://parochiesintmaarten.nl/events/solidariteitslunch-pastorie-sint-pancratiuskerk/
END:VEVENT
END:VCALENDAR