BEGIN:VCALENDAR
VERSION:2.0
PRODID:-//eventon.com NONSGML v1.0//EN
BEGIN:VEVENT
UID:69eb5d7e47354
DTSTAMP:20260424T140934
DTSTART:20260225T190000Z
DTEND:20260225T210000Z
TZID:Europe/Amsterdam
LOCATION:Het Venster\,  parochiecentrum PGS Westerstraat 8A\,  Sassenheim
SUMMARY:Vorming&Toerusting: Films op weg naar Pasen - Sassenheim
DESCRIPTION: Ter voorbereiding en verdieping op Pasen worden er in Het Venster in Sassenheim films vertoond. Op de woensdagen 25 februari\,  11 en 25 maart 2026 van 20.00-22.00 uur. De inleider is dominee T. Moll. Na de film volgt meestal een kort nagesprek. Titels van de films worden later bekend gemaakt.[..]\nhttps://parochiesintmaarten.nl/events/vormingtoerusting-films-op-weg-naar-pasen/
URL:https://parochiesintmaarten.nl/events/vormingtoerusting-films-op-weg-naar-pasen/
END:VEVENT
END:VCALENDAR