BEGIN:VCALENDAR
VERSION:2.0
PRODID:-//eventon.com NONSGML v1.0//EN
BEGIN:VEVENT
UID:69eb5b0b04098
DTSTAMP:20260424T135907
DTSTART:20260311T190000Z
DTEND:20260311T210000Z
TZID:Europe/Amsterdam
LOCATION:Het Venster\,  parochiecentrum PGS Westerstraat 8A\,  Sassenheim
SUMMARY:Vorming&Toerusting: Films op weg naar Pasen - Sassenheim
DESCRIPTION: Ter voorbereiding en verdieping op Pasen worden er in Het Venster in Sassenheim films vertoond. Op de woensdagen 25 februari en 11 maart 2026 van 20.00-22.00 uur. De inleider is dominee T. Moll. Na de film volgt meestal een kort nagesprek. Titels van de films worden later bekend gemaakt. Kijkt[..]\nhttps://parochiesintmaarten.nl/events/films-op-weg-naar-pasen-sassenheim/
URL:https://parochiesintmaarten.nl/events/films-op-weg-naar-pasen-sassenheim/
END:VEVENT
END:VCALENDAR