BEGIN:VCALENDAR
VERSION:2.0
PRODID:-//eventon.com NONSGML v1.0//EN
BEGIN:VEVENT
UID:69eb2ef4a3078
DTSTAMP:20260424T105100
DTSTART:20260317T190000Z
DTEND:20260317T225000Z
TZID:Europe/Amsterdam
LOCATION:Sint Pancratiuskerk 
SUMMARY:Vorming&Toerusting: Langs de kruiswegstaties - Pancratiuskerk
DESCRIPTION: In de Veertigdagentijd maakt pastor P. Owel een rondgang langs de prachtige en sprekende afbeeldingen van de kruisweg in de Pancratiuskerk. Hiermee willen we op weg naar Pasen ontdekken hoe Hij ons de weg wees om ‘per Crucem ad Lucem’ (door het Kruis naar het Licht) te gaan. Op dinsdag[..]\nhttps://parochiesintmaarten.nl/events/vormingtoerusting-langs-de-kruiswegstaties-pancratiuskerk/
URL:https://parochiesintmaarten.nl/events/vormingtoerusting-langs-de-kruiswegstaties-pancratiuskerk/
END:VEVENT
END:VCALENDAR