BEGIN:VCALENDAR
VERSION:2.0
PRODID:-//eventon.com NONSGML v1.0//EN
BEGIN:VEVENT
UID:69e5deacbf216
DTSTAMP:20260420T100708
DTSTART:20260326T183000Z
DTEND:20260326T203000Z
TZID:Europe/Amsterdam
LOCATION:Bloomdezign\,  Wasbeeklaan 2\,  Warmond 
SUMMARY:Vorming&Toerusting: Bloemschikken in de Veertigdagentijd - Warmond
DESCRIPTION: Gedurende het kerkelijk jaar wisselen de liturgische kleuren in de kerk om ons voor te bereiden op de grote feesten. In de tijd voor Pasen zijn de kleuren paars\,  roze op zondag Laetare en wit van de opstanding. Mevrouw Nelleke de Mooij zal tijdens deze workshop uitleg geven over de[..]\nhttps://parochiesintmaarten.nl/events/vormingtoerusting-bloemschikken-in-de-veertigdagentijd-warmond-2/
URL:https://parochiesintmaarten.nl/events/vormingtoerusting-bloemschikken-in-de-veertigdagentijd-warmond-2/
END:VEVENT
END:VCALENDAR