BEGIN:VCALENDAR
VERSION:2.0
PRODID:-//eventon.com NONSGML v1.0//EN
BEGIN:VEVENT
UID:69e598ac0f9dd
DTSTAMP:20260420T050828
DTSTART:20260517T093000Z
DTEND:20260517T215000Z
TZID:Europe/Amsterdam
LOCATION:Sint Pancratiuskerk 
SUMMARY:Orgelconcert Pancratiuskerk
DESCRIPTION: Op zondag 17 mei zal organist Maciej Wierzcholowski na afloop van de viering en het gezamenlijk koffie drinken een kort voorjaars orgelconcert geven. U bent hiervoor van harte uitgenodigd.\nhttps://parochiesintmaarten.nl/events/orgelconcert-pancratiuskerk/
URL:https://parochiesintmaarten.nl/events/orgelconcert-pancratiuskerk/
END:VEVENT
END:VCALENDAR