BEGIN:VCALENDAR
VERSION:2.0
PRODID:-//eventon.com NONSGML v1.0//EN
BEGIN:VEVENT
UID:69e598ab938eb
DTSTAMP:20260420T050827
DTSTART:20260513T173000Z
DTEND:20260513T215000Z
TZID:Europe/Amsterdam
LOCATION:Pastorie Sint Matthias Warmond 
SUMMARY:Muziekquiz 'Van psalmen tot pop'
DESCRIPTION: Muziekquiz &#8216;Van psalmen tot pop&#8217; Symfonie betekent samenklank\,  symphoquestion betekent samenvraag. In de van Psalmen naar pop quiz komen al deze elementen bij elkaar. Op deze avond kun je met anderen wedijveren wanneer het gaat over muziek in relatie tot de bijbel en geloof. Je zult ervan versteld staan hoeveel[..]\nhttps://parochiesintmaarten.nl/events/van-psalmen-tot-pop/
URL:https://parochiesintmaarten.nl/events/van-psalmen-tot-pop/
END:VEVENT
END:VCALENDAR