BEGIN:VCALENDAR
VERSION:2.0
PRODID:-//eventon.com NONSGML v1.0//EN
BEGIN:VEVENT
UID:69e5ca88e65ea
DTSTAMP:20260420T084112
DTSTART:20260329T133000Z
DTEND:20260329T215000Z
TZID:Europe/Amsterdam
LOCATION:Sint Bartholomeuskerk 
SUMMARY:Marcus Passie - Sint Bartholomeuskerk Voorhout
DESCRIPTION: Een eigentijdse versie van het eeuwenoude verhaal van het lijden en sterven van Christus. Op zondagmiddag 29 maart om 15:30 uur in Voorhout zal dit Nederlandstalige – op het Evangelie van Marcus gebaseerde – muziekstuk van de twintigste-eeuwse componist\,  dirigent en kerkmusicus Hans Boelee worden uitgevoerd door het koor Rejoice[..]\nhttps://parochiesintmaarten.nl/events/marcuspassie-sint-bartholomeuskerk/
URL:https://parochiesintmaarten.nl/events/marcuspassie-sint-bartholomeuskerk/
END:VEVENT
END:VCALENDAR