BEGIN:VCALENDAR
VERSION:2.0
PRODID:-//eventon.com NONSGML v1.0//EN
BEGIN:VEVENT
UID:69eb46b7bc331
DTSTAMP:20260424T123223
DTSTART:20260402T193000Z
DTEND:20260402T200000Z
TZID:Europe/Amsterdam
LOCATION:Online 
SUMMARY:Een slotje op de dag - Online viering
DESCRIPTION: Als golven die in een altijd doorgaand ritme op het strand rollen\,  zo wordt in katholieke kloosters overal ter wereld dag in dag uit op vaste momenten in de dag het getijdengebed gebeden. Dit heiligen van de tijd doet de mens beseffen dat het leven zich centreert rond de Bron[..]\nhttps://parochiesintmaarten.nl/events/een-slotje-op-de-dag-online-viering-10/
URL:https://parochiesintmaarten.nl/events/een-slotje-op-de-dag-online-viering-10/
END:VEVENT
END:VCALENDAR