BEGIN:VCALENDAR
VERSION:2.0
PRODID:-//eventon.com NONSGML v1.0//EN
BEGIN:VEVENT
UID:69eb508bc6d3e
DTSTAMP:20260424T131419
DTSTART:20260430T193000Z
DTEND:20260430T200000Z
TZID:Europe/Amsterdam
LOCATION:Online 
SUMMARY:Een slotje op de dag - Online viering
DESCRIPTION: Als golven die in een altijd doorgaand ritme op het strand rollen\,  zo wordt in katholieke kloosters overal ter wereld dag in dag uit op vaste momenten in de dag het getijdengebed gebeden. Dit heiligen van de tijd doet de mens beseffen dat het leven zich centreert rond de Bron[..]\nhttps://parochiesintmaarten.nl/events/een-slotje-op-de-dag-online-viering-18/
URL:https://parochiesintmaarten.nl/events/een-slotje-op-de-dag-online-viering-18/
END:VEVENT
END:VCALENDAR