BEGIN:VCALENDAR
VERSION:2.0
PRODID:-//eventon.com NONSGML v1.0//EN
BEGIN:VEVENT
UID:69eb50e6b7956
DTSTAMP:20260424T131550
DTSTART:20260625T193000Z
DTEND:20260625T200000Z
TZID:Europe/Amsterdam
LOCATION:Online 
SUMMARY:Een slotje op de dag - Online viering
DESCRIPTION: Als golven die in een altijd doorgaand ritme op het strand rollen\,  zo wordt in katholieke kloosters overal ter wereld dag in dag uit op vaste momenten in de dag het getijdengebed gebeden. Dit heiligen van de tijd doet de mens beseffen dat het leven zich centreert rond de Bron[..]\nhttps://parochiesintmaarten.nl/events/een-slotje-op-de-dag-online-viering-26/
URL:https://parochiesintmaarten.nl/events/een-slotje-op-de-dag-online-viering-26/
END:VEVENT
END:VCALENDAR