BEGIN:VCALENDAR
VERSION:2.0
PRODID:-//eventon.com NONSGML v1.0//EN
BEGIN:VEVENT
UID:69eb519fb3194
DTSTAMP:20260424T131855
DTSTART:20260425T070000Z
DTEND:20260425T215000Z
TZID:Europe/Amsterdam
LOCATION:Sint Jeroenskerk 
SUMMARY:Lauden - Sint Jeroen
DESCRIPTION: Voorganger: Gebedsleider mevrouw L. Spiegeler\nhttps://parochiesintmaarten.nl/events/lauden-sint-jeroen-17/
URL:https://parochiesintmaarten.nl/events/lauden-sint-jeroen-17/
END:VEVENT
END:VCALENDAR