BEGIN:VCALENDAR
VERSION:2.0
PRODID:-//eventon.com NONSGML v1.0//EN
BEGIN:VEVENT
UID:69eb513b04aea
DTSTAMP:20260424T131715
DTSTART:20260430T164500Z
DTEND:20260430T215000Z
TZID:Europe/Amsterdam
LOCATION:Dagkapel de Roef 
SUMMARY:Eucharistieviering - Sint Bartholomeus
DESCRIPTION: Voorganger: Pastor P. Owel\nhttps://parochiesintmaarten.nl/events/eucharistieviering-sint-bartholomeus-25/
URL:https://parochiesintmaarten.nl/events/eucharistieviering-sint-bartholomeus-25/
END:VEVENT
END:VCALENDAR