BEGIN:VCALENDAR
VERSION:2.0
PRODID:-//eventon.com NONSGML v1.0//EN
BEGIN:VEVENT
UID:69e596d69e099
DTSTAMP:20260420T050038
DTSTART:20260508T183000Z
DTEND:20260508T215000Z
TZID:Europe/Amsterdam
LOCATION:Cheers\,  tegenover de Sint Bartholomeuskerk 
SUMMARY:PAVEIVO 2026 - Kerkenveiling
DESCRIPTION: Vrij­dagavond 8 mei a.s. vindt  bij “Cheers” aan de Herenstraat in Voorhout weer de jaarlijkse kerkenveiling van de Bartholomeuskerk plaats. Deze veiling\,  in de wandelgangen beter bekend als de Paveivo\,  is een veiling van allerhande artikelen die ter beschikking zijn gesteld door bedrijven\,  winkeliers en parochianen. De opbrengst van deze[..]\nhttps://parochiesintmaarten.nl/events/paveivo-2026-kerkenveiling/
URL:https://parochiesintmaarten.nl/events/paveivo-2026-kerkenveiling/
END:VEVENT
END:VCALENDAR