BEGIN:VCALENDAR
VERSION:2.0
PRODID:-//eventon.com NONSGML v1.0//EN
BEGIN:VEVENT
UID:69e596d84f57a
DTSTAMP:20260420T050040
DTSTART:20260511T163000Z
DTEND:20260511T170000Z
TZID:Europe/Amsterdam
LOCATION:Online 
SUMMARY:5x een tientje voor Maria
DESCRIPTION: Kent u het broekzak gebed nog? Waarschijnlijk wel\,  alleen bent u zich er niet van bewust dat u het kent. Het is nog wel een rare naam ook misschien\,  maar wanneer we het in de kerk over de vijf tientjes hebben\,  wordt er wat anders bedoeld dan die vijf tientjes[..]\nhttps://parochiesintmaarten.nl/events/5x-een-tientje-voor-maria-2/
URL:https://parochiesintmaarten.nl/events/5x-een-tientje-voor-maria-2/
END:VEVENT
END:VCALENDAR