BEGIN:VCALENDAR
VERSION:2.0
PRODID:-//eventon.com NONSGML v1.0//EN
BEGIN:VEVENT
UID:69e5971539bec
DTSTAMP:20260420T050141
DTSTART:20260505T064500Z
DTEND:20260505T215000Z
TZID:Europe/Amsterdam
LOCATION:Sint Pancratiuskerk 
SUMMARY:Rozenkrans bidden - Sint Pancratius
DESCRIPTION: Op dinsdagochtend voorafgaand van de ochtendviering wordt het Rozenkrans gebed gebeden. U bent van harte welkom!\nhttps://parochiesintmaarten.nl/events/rozenkrans-bidden-sint-pancratius/
URL:https://parochiesintmaarten.nl/events/rozenkrans-bidden-sint-pancratius/
END:VEVENT
END:VCALENDAR