BEGIN:VCALENDAR
VERSION:2.0
PRODID:-//eventon.com NONSGML v1.0//EN
BEGIN:VEVENT
UID:69e59715a9e33
DTSTAMP:20260420T050141
DTSTART:20260519T064500Z
DTEND:20260519T215000Z
TZID:Europe/Amsterdam
LOCATION:Sint Pancratiuskerk 
SUMMARY:Rozenkrans bidden - Sint Pancratius
DESCRIPTION: Op dinsdagochtend voorafgaand van de ochtendviering wordt het Rozenkrans gebed gebeden. U bent van harte welkom!\nhttps://parochiesintmaarten.nl/events/rozenkrans-bidden-sint-pancratius-3/
URL:https://parochiesintmaarten.nl/events/rozenkrans-bidden-sint-pancratius-3/
END:VEVENT
END:VCALENDAR