BEGIN:VCALENDAR
VERSION:2.0
PRODID:-//eventon.com NONSGML v1.0//EN
BEGIN:VEVENT
UID:69e596d6de3c1
DTSTAMP:20260420T050038
DTSTART:20260505T170000Z
DTEND:20260505T215000Z
TZID:Europe/Amsterdam
LOCATION:Sint Victorkerk 
SUMMARY:Rozenkrans bidden - Sint Victor
DESCRIPTION: Voorganger: Gebedsleider mevrouw T. Hogervorst\nhttps://parochiesintmaarten.nl/events/rozenkrans-bidden-sint-victor/
URL:https://parochiesintmaarten.nl/events/rozenkrans-bidden-sint-victor/
END:VEVENT
END:VCALENDAR