BEGIN:VCALENDAR
VERSION:2.0
PRODID:-//eventon.com NONSGML v1.0//EN
BEGIN:VEVENT
UID:69e59714bf954
DTSTAMP:20260420T050140
DTSTART:20260512T170000Z
DTEND:20260512T215000Z
TZID:Europe/Amsterdam
LOCATION:Sint Victorkerk 
SUMMARY:Rozenkrans bidden - Sint Victor
DESCRIPTION: Voorganger: Gebedsleider mevrouw T. Hogervorst\nhttps://parochiesintmaarten.nl/events/rozenkrans-bidden-sint-victor-2/
URL:https://parochiesintmaarten.nl/events/rozenkrans-bidden-sint-victor-2/
END:VEVENT
END:VCALENDAR