BEGIN:VCALENDAR
VERSION:2.0
PRODID:-//eventon.com NONSGML v1.0//EN
BEGIN:VEVENT
UID:69e5971735e71
DTSTAMP:20260420T050143
DTSTART:20260519T170000Z
DTEND:20260519T215000Z
TZID:Europe/Amsterdam
LOCATION:Sint Victorkerk 
SUMMARY:Rozenkrans bidden - Sint Victor
DESCRIPTION: Voorganger: Gebedsleider mevrouw T. Hogervorst Zang: Dameskoor Sint Victor\nhttps://parochiesintmaarten.nl/events/rozenkrans-bidden-sint-victor-3/
URL:https://parochiesintmaarten.nl/events/rozenkrans-bidden-sint-victor-3/
END:VEVENT
END:VCALENDAR