BEGIN:VCALENDAR
VERSION:2.0
PRODID:-//eventon.com NONSGML v1.0//EN
BEGIN:VEVENT
UID:69e59716371ad
DTSTAMP:20260420T050142
DTSTART:20260526T170000Z
DTEND:20260526T215000Z
TZID:Europe/Amsterdam
LOCATION:Sint Victorkerk 
SUMMARY:Rozenkrans bidden - Sint Victor
DESCRIPTION: Voorganger: Gebedsleider mevrouw T. Hogervorst\nhttps://parochiesintmaarten.nl/events/rozenkrans-bidden-sint-victor-4/
URL:https://parochiesintmaarten.nl/events/rozenkrans-bidden-sint-victor-4/
END:VEVENT
END:VCALENDAR