BEGIN:VCALENDAR
VERSION:2.0
PRODID:-//eventon.com NONSGML v1.0//EN
BEGIN:VEVENT
UID:69eb4f5531863
DTSTAMP:20260424T130909
DTSTART:20260506T120000Z
DTEND:20260506T140000Z
TZID:Europe/Amsterdam
LOCATION:Parochiecentrum Sint Jeroen Van Limburg Stirumstraat\,  24
SUMMARY:Laurentius estafette - Knoopmiddag
DESCRIPTION: Sleutelhangers maken met een Laurentius medaille.\nhttps://parochiesintmaarten.nl/events/laurentius-estafette-knoopmiddag/
URL:https://parochiesintmaarten.nl/events/laurentius-estafette-knoopmiddag/
END:VEVENT
END:VCALENDAR